BEGIN:VCALENDAR
VERSION:2.0
PRODID:-//IS2M - ECPv6.15.14//NONSGML v1.0//EN
CALSCALE:GREGORIAN
METHOD:PUBLISH
X-WR-CALNAME:IS2M
X-ORIGINAL-URL:https://www.is2m.uha.fr
X-WR-CALDESC:Évènements pour IS2M
REFRESH-INTERVAL;VALUE=DURATION:PT1H
X-Robots-Tag:noindex
X-PUBLISHED-TTL:PT1H
BEGIN:VTIMEZONE
TZID:Europe/Paris
BEGIN:DAYLIGHT
TZOFFSETFROM:+0100
TZOFFSETTO:+0200
TZNAME:CEST
DTSTART:20250330T010000
END:DAYLIGHT
BEGIN:STANDARD
TZOFFSETFROM:+0200
TZOFFSETTO:+0100
TZNAME:CET
DTSTART:20251026T010000
END:STANDARD
BEGIN:DAYLIGHT
TZOFFSETFROM:+0100
TZOFFSETTO:+0200
TZNAME:CEST
DTSTART:20260329T010000
END:DAYLIGHT
BEGIN:STANDARD
TZOFFSETFROM:+0200
TZOFFSETTO:+0100
TZNAME:CET
DTSTART:20261025T010000
END:STANDARD
BEGIN:DAYLIGHT
TZOFFSETFROM:+0100
TZOFFSETTO:+0200
TZNAME:CEST
DTSTART:20270328T010000
END:DAYLIGHT
BEGIN:STANDARD
TZOFFSETFROM:+0200
TZOFFSETTO:+0100
TZNAME:CET
DTSTART:20271031T010000
END:STANDARD
END:VTIMEZONE
BEGIN:VEVENT
DTSTART;TZID=Europe/Paris:20260611T090000
DTEND;TZID=Europe/Paris:20260611T180000
DTSTAMP:20260426T044419
CREATED:20260407T160726Z
LAST-MODIFIED:20260407T160915Z
UID:14531-1781168400-1781200800@www.is2m.uha.fr
SUMMARY:IS2M Annual Meetings 2026
DESCRIPTION:The IS2M annual meetings 2026 will take place on June 11\, 2026\, with the title : \nRecent Advances in Electron Microscopy \nClick  here for the program !
URL:https://www.is2m.uha.fr/event/is2m-annual-meetings-2026/
LOCATION:Amphithéâtre de l’IS2M\, 15 rue jean starcky\, Mulhouse\, Mulhouse\, 68057\, France
END:VEVENT
END:VCALENDAR